BEGIN:VCALENDAR
VERSION:2.0
PRODID:-//Kulvio Event Calendar//kulvio.de//
CALSCALE:GREGORIAN
METHOD:PUBLISH
BEGIN:VEVENT
SUMMARY:Armano Live — Blues im Heusenstammer Sommer
DTSTART:20260522T180000Z
DTEND:20260522T190000Z
DTSTAMP:20260421T041932Z
UID:kulvio-event-2579@kulvio.de
CATEGORIES:Konzert
CREATED:20260419T152322Z
DESCRIPTION:Armano bringt seine Mischung aus American Roots Music und Earl
 y Country Blues nach Heusenstamm. Der Sänger und Multiinstrumentalist aus
  Bamberg\, bekannt durch seine Bands Oporto und See See Riders\, tritt als
  One-Man-Band auf und erzählt mit Gitarre und Stimme Geschichten im Stil 
 des Delta Blues. Sein raues\, authentisches Spiel erinnert an die Pioniere
  der akustischen Blues-Tradition aus dem amerikanischen Süden. Das Konzer
 t ist Teil des Heusenstammer Sommer-Programms und bringt handgemachte akus
 tische Musik in die Heusenstammer Innenstadt. Der Eintritt ist frei.
GEO:50.055434;8.788846
LAST-MODIFIED:20260419T153550Z
LOCATION:Leibnizstraße\, 63150\, Heusenstamm
STATUS:CONFIRMED
URL:https://kulvio.de/event/2579
END:VEVENT
END:VCALENDAR
