BEGIN:VCALENDAR
VERSION:2.0
PRODID:-//Kulvio Event Calendar//kulvio.de//
CALSCALE:GREGORIAN
METHOD:PUBLISH
BEGIN:VEVENT
SUMMARY:TSV Hopfenfest
DTSTART:20260524T130000Z
DTEND:20260524T140000Z
DTSTAMP:20260421T035132Z
UID:kulvio-event-2580@kulvio.de
CATEGORIES:Stadtfest
CREATED:20260419T152322Z
DESCRIPTION:Am Pfingstsonntag veranstaltet die Fußballabteilung des TSV 1
 873 Heusenstamm ihr traditionelles Hopfenfest am Vereinsgelände an der Ma
 rtinsestraße. Das Bierfest bietet frisch Gezapftes und geselliges Beisamm
 ensein im Freien. Ab 15 Uhr können Besucher den Pfingstsonntag bei Grills
 pezialitäten und kühlen Getränken am Sportplatz ausklingen lassen. Das 
 Hopfenfest ist seit Jahren ein fester Bestandteil des Pfingstwochenendes i
 n Heusenstamm und zieht Fußballfans\, Vereinsmitglieder und Nachbarn glei
 chermaßen an. Die Fußballabteilung des TSV organisiert das Fest in Eigen
 regie und bietet ein lockeres Programm für die ganze Familie.
GEO:50.052773;8.821257
LAST-MODIFIED:20260419T153550Z
LOCATION:Martinsestraße 6\, 63150\, Heusenstamm
STATUS:CONFIRMED
URL:https://kulvio.de/event/2580
END:VEVENT
END:VCALENDAR
