BEGIN:VCALENDAR
VERSION:2.0
PRODID:-//Kulvio Event Calendar//kulvio.de//
CALSCALE:GREGORIAN
METHOD:PUBLISH
BEGIN:VEVENT
SUMMARY:Führung im Museumsdepot für Kommunikation
DTSTART:20260605T120000Z
DTEND:20260605T133000Z
DTSTAMP:20260421T043143Z
UID:kulvio-event-2581@kulvio.de
CATEGORIES:Ausstellung
CREATED:20260419T152322Z
DESCRIPTION:Das Museum für Kommunikation öffnet sein Sammlungsdepot in H
 eusenstamm für eine öffentliche Führung am ersten Freitag im Juni. Auf 
 dem Gelände in der Philipp-Reis-Straße lagern tausende Exponate aus der 
 Geschichte der Nachrichtenübermittlung\, die im Frankfurter Stammhaus kei
 nen Platz finden. Die Führung dauert rund 90 Minuten und bietet einen Bli
 ck hinter die Kulissen des Museums. Gezeigt werden historische Telegrafen\
 , Telefone und Postgeräte aus mehreren Jahrhunderten. Das Depot ist nur i
 m Rahmen von Führungen zugänglich. Eine Anmeldung wird empfohlen\, da di
 e Plätze begrenzt sind.
GEO:50.049802;8.797021
LAST-MODIFIED:20260419T153550Z
LOCATION:Museum für Kommunikation Sammlungsdepot\, Philipp-Reis-Straße 4
 -8\, 63150\, Heusenstamm
STATUS:CONFIRMED
URL:https://kulvio.de/event/2581
END:VEVENT
END:VCALENDAR
