BEGIN:VCALENDAR
VERSION:2.0
PRODID:-//Kulvio Event Calendar//kulvio.de//
CALSCALE:GREGORIAN
METHOD:PUBLISH
BEGIN:VEVENT
SUMMARY:Alte Linde macht Musik
DTSTART:20260612T150000Z
DTEND:20260612T160000Z
DTSTAMP:20260421T042431Z
UID:kulvio-event-2582@kulvio.de
CATEGORIES:Konzert,Open-Air
CREATED:20260419T152322Z
DESCRIPTION:Am Marktplatz des Centrums Alte Linde in der Leibnizstraße wi
 rd eine Open-Air-Bühne aufgebaut und zwei Musikacts treten im Rahmen des 
 Heusenstammer Sommers auf. Ab 17 Uhr gibt es Speisen und Getränke\, der G
 rill wird vom Rugby Club Heusenstamm betrieben. Tische und Bänke stehen b
 ereit und schaffen eine gemütliche Lounge-Atmosphäre unter freiem Himmel
 . Das Format verbindet Live-Musik verschiedener Stilrichtungen mit entspan
 ntem Beisammensein in der Heusenstammer Innenstadt. Der Eintritt ist frei 
 und die Veranstaltung findet bei gutem Wetter draußen statt. Die Musik be
 ginnt ab 18 Uhr.
GEO:50.055434;8.788846
LAST-MODIFIED:20260419T153550Z
LOCATION:Centrum Alte Linde\, Leibnizstraße\, 63150\, Heusenstamm
STATUS:CONFIRMED
URL:https://kulvio.de/event/2582
END:VEVENT
END:VCALENDAR
