BEGIN:VCALENDAR
VERSION:2.0
PRODID:-//Kulvio Event Calendar//kulvio.de//
CALSCALE:GREGORIAN
METHOD:PUBLISH
BEGIN:VEVENT
SUMMARY:StrandBadFestival — White Summer Night
DTSTART:20260612T153000Z
DTEND:20260612T223000Z
DTSTAMP:20260421T042435Z
UID:kulvio-event-2583@kulvio.de
CATEGORIES:Festival,Party,Open-Air
CREATED:20260419T152322Z
DESCRIPTION:Das StrandBadFestival eröffnet sein Wochenende mit der White 
 Summer Night im Festival-Garten des Bad Heusenstamm. Headliner Doctor Blon
 d liefern Partyhits aus mehreren Jahrzehnten\, begleitet von DJ Alex Stadl
 er mit Live-Sängerin Sofia Mapapa und den Geigenklängen von MISS vio-LIN
 E. Dresscode ist Weiß\, und das Festival findet 2026 erstmals auf dem neu
 en Gelände am Schwimmbad statt. Einlass ab 17:30 Uhr\, das Mindestalter b
 eträgt 16 Jahre mit Ausweis. Busbahnhof und S-Bahn S2 liegen direkt am Ge
 lände\, Parkplätze sind kaum vorhanden. Der nächste Parkplatz befindet 
 sich am Friedhof Heusenstamm.
GEO:50.062997;8.801038
LAST-MODIFIED:20260419T153550Z
LOCATION:Bad Heusenstamm\, Jahnstraße 50\, 63150\, Heusenstamm
STATUS:CONFIRMED
URL:https://kulvio.de/event/2583
END:VEVENT
END:VCALENDAR
