BEGIN:VCALENDAR
VERSION:2.0
PRODID:-//Kulvio Event Calendar//kulvio.de//
CALSCALE:GREGORIAN
METHOD:PUBLISH
BEGIN:VEVENT
SUMMARY:StrandBadFestival — Mallorca Party
DTSTART:20260613T133000Z
DTEND:20260613T223000Z
DTSTAMP:20260421T042810Z
UID:kulvio-event-2584@kulvio.de
CATEGORIES:Festival,Party
CREATED:20260419T152322Z
DESCRIPTION:Am zweiten Tag des StrandBadFestivals steht die Mallorca Party
  im Festival-Garten des Bad Heusenstamm auf dem Programm. Auf der Bühne s
 tehen unter anderem Lorenz Büffel\, Almklausi\, Nancy Franck\, Kings of G
 ünther\, Minnie Rock und Der Partycrasher. DJ Balineiro und das Mütze Ka
 tze DJ-Team mit ihrer 90er-Show sorgen zwischen den Live-Acts für Stimmun
 g. Partymann Atze und die Bronaldos runden das Lineup ab. Einlass ist ab 1
 5:30 Uhr\, das Mindestalter beträgt 16 Jahre. Kinder bis 12 Jahre haben i
 n Begleitung eines Erziehungsberechtigten freien Eintritt. Die Anreise mit
  der S-Bahn S2 wird empfohlen.
GEO:50.062997;8.801038
LAST-MODIFIED:20260419T153550Z
LOCATION:Bad Heusenstamm\, Jahnstraße 50\, 63150\, Heusenstamm
STATUS:CONFIRMED
URL:https://kulvio.de/event/2584
END:VEVENT
END:VCALENDAR
