BEGIN:VCALENDAR
VERSION:2.0
PRODID:-//Kulvio Event Calendar//kulvio.de//
CALSCALE:GREGORIAN
METHOD:PUBLISH
BEGIN:VEVENT
SUMMARY:Führung im Museumsdepot für Kommunikation
DTSTART:20260703T120000Z
DTEND:20260703T133000Z
DTSTAMP:20260421T042428Z
UID:kulvio-event-2585@kulvio.de
CATEGORIES:Ausstellung
CREATED:20260419T152322Z
DESCRIPTION:Das Museum für Kommunikation öffnet sein Sammlungsdepot in H
 eusenstamm im Juli für eine weitere öffentliche Führung. Auf dem Gelän
 de in der Philipp-Reis-Straße lagern tausende Exponate aus der Geschichte
  der Nachrichtenübermittlung\, die im Frankfurter Stammhaus keinen Platz 
 finden. Die Führung dauert rund 90 Minuten und bietet einen Blick hinter 
 die Kulissen des Museums. Gezeigt werden historische Telegrafen\, Telefone
  und Postgeräte aus mehreren Jahrhunderten. Das Depot ist nur im Rahmen v
 on Führungen zugänglich. Eine Anmeldung wird empfohlen\, da die Plätze 
 begrenzt sind.
GEO:50.049802;8.797021
LAST-MODIFIED:20260419T153550Z
LOCATION:Museum für Kommunikation Sammlungsdepot\, Philipp-Reis-Straße 4
 -8\, 63150\, Heusenstamm
STATUS:CONFIRMED
URL:https://kulvio.de/event/2585
END:VEVENT
END:VCALENDAR
