BEGIN:VCALENDAR
VERSION:2.0
PRODID:-//Kulvio Event Calendar//kulvio.de//
CALSCALE:GREGORIAN
METHOD:PUBLISH
BEGIN:VEVENT
SUMMARY:TSV-Partynacht mit Doctor Blond
DTSTART:20260807T163000Z
DTEND:20260807T173000Z
DTSTAMP:20260421T042431Z
UID:kulvio-event-2586@kulvio.de
CATEGORIES:Konzert,Party
CREATED:20260419T152322Z
DESCRIPTION:Die Fußballabteilung des TSV 1873 Heusenstamm organisiert ein
 e Partynacht mit der Band Doctor Blond auf der Schlossbühne am Bannturm. 
 Die fünfköpfige Partyband aus dem Rhein-Main-Gebiet spielt Hits aus mehr
 eren Jahrzehnten und aktuelle Songs zum Mitsingen und Tanzen. Mit über 20
  Jahren Bühnenerfahrung sorgen Sängerin Inga Wolf und Frontmann Emre Bic
 er für ausgelassene Stimmung auf der Open-Air-Bühne am Schloss Heusensta
 mm. Einlass ab 18:30 Uhr. Die TSV-Partynacht ist ein fester Bestandteil de
 s Heusenstammer Sommerprogramms und zieht jedes Jahr zahlreiche Besucher a
 n.
GEO:50.062628;8.807535
LAST-MODIFIED:20260419T153550Z
LOCATION:Schloss Heusenstamm\, Im Herrngarten 1\, 63150\, Heusenstamm
STATUS:CONFIRMED
URL:https://kulvio.de/event/2586
END:VEVENT
END:VCALENDAR
