BEGIN:VCALENDAR
VERSION:2.0
PRODID:-//Kulvio Event Calendar//kulvio.de//
CALSCALE:GREGORIAN
METHOD:PUBLISH
BEGIN:VEVENT
SUMMARY:Heusestämmer Lieder — Solang de Torbau noch hier steht
DTSTART:20260814T180000Z
DTEND:20260814T190000Z
DTSTAMP:20260421T042434Z
UID:kulvio-event-2587@kulvio.de
CATEGORIES:Konzert,Show
CREATED:20260419T152322Z
DESCRIPTION:Die Heusestämmer Lieder sind eine gesungene Hommage an die Wa
 hrzeichen und Persönlichkeiten von Heusenstamm. Proseccokehlchen\, Stamms
 pieler und Ortskünstler bringen am ersten von zwei Abenden Lieder über d
 en Torbau\, das Schloss Schönborn und das Hofgut Patershausen auf die Hof
 bühne der Gaststätte Katja in der Frankfurter Straße. Das Programm verb
 indet vertonte Anekdoten aus der Stadtgeschichte mit hessischem Humor und 
 richtet sich an alle\, die Heusenstamm im Herzen tragen. Der Abend beginnt
  um 20 Uhr. Tickets gibt es im Vorverkauf ab 19\,90 Euro.
GEO:50.059218;8.806882
LAST-MODIFIED:20260419T153550Z
LOCATION:Zur Stadt Offenbach Katja\, Frankfurter Straße 28\, 63150\, Heus
 enstamm
STATUS:CONFIRMED
URL:https://kulvio.de/event/2587
END:VEVENT
END:VCALENDAR
