BEGIN:VCALENDAR
VERSION:2.0
PRODID:-//Kulvio Event Calendar//kulvio.de//
CALSCALE:GREGORIAN
METHOD:PUBLISH
BEGIN:VEVENT
SUMMARY:Heusestämmer Lieder — Solang de Torbau noch hier steht
DTSTART:20260815T180000Z
DTEND:20260815T190000Z
DTSTAMP:20260421T043145Z
UID:kulvio-event-2588@kulvio.de
CATEGORIES:Konzert,Show
CREATED:20260419T152322Z
DESCRIPTION:Am zweiten Abend der Heusestämmer Lieder bringen Proseccokehl
 chen\, Stammspieler und Ortskünstler erneut ihre gesungene Hommage an Heu
 senstamm auf die Hofbühne der Gaststätte Katja. Lieder über den Torbau\
 , das Schloss Schönborn und vertonte Anekdoten aus der Stadtgeschichte st
 ehen auf dem Programm. Das Format verbindet musikalische Liebeserklärunge
 n an lokale Wahrzeichen mit hessischem Humor und Lokalkolorit. Die Veranst
 altung ist ein Höhepunkt des Heusenstammer Sommers und seit mehreren Jahr
 en fester Bestandteil des Kulturprogramms. Beginn ist um 20 Uhr. Tickets g
 ibt es im Vorverkauf ab 19\,90 Euro.
GEO:50.059218;8.806882
LAST-MODIFIED:20260419T153550Z
LOCATION:Zur Stadt Offenbach Katja\, Frankfurter Straße 28\, 63150\, Heus
 enstamm
STATUS:CONFIRMED
URL:https://kulvio.de/event/2588
END:VEVENT
END:VCALENDAR
