BEGIN:VCALENDAR
VERSION:2.0
PRODID:-//Kulvio Event Calendar//kulvio.de//
CALSCALE:GREGORIAN
METHOD:PUBLISH
BEGIN:VEVENT
SUMMARY:Backfischfest am Schermsee
DTSTART:20260830T080000Z
DTEND:20260830T160000Z
DTSTAMP:20260421T035111Z
UID:kulvio-event-2589@kulvio.de
CATEGORIES:Food-Festival
CREATED:20260419T152322Z
DESCRIPTION:Der Sportfischerverein Heusenstamm lädt zum traditionellen Ba
 ckfischfest an den Schermsee ein. Am Vereinshaus mit Blick auf den See ber
 eiten die Mitglieder frische Fischspezialitäten zu\, darunter Lachs\, Mat
 jesfilet\, Bratforelle\, Bismarckhering und Kibbelinge. Dazu gibt es Beila
 gen\, Grillgut\, Getränke und selbstgebackenen Kuchen. Der Erlös der Ver
 anstaltung kommt der Jugendarbeit des Vereins zugute. Das Backfischfest fi
 ndet von 10 bis 18 Uhr statt und ist eine der beliebtesten Traditionsveran
 staltungen am Schermsee. Der Eintritt ist frei\, Speisen und Getränke sin
 d kostenpflichtig.
GEO:50.053054;8.839973
LAST-MODIFIED:20260419T153550Z
LOCATION:Rembrücker Weg\, 63179\, Obertshausen
STATUS:CONFIRMED
URL:https://kulvio.de/event/2589
END:VEVENT
END:VCALENDAR
