BEGIN:VCALENDAR
VERSION:2.0
PRODID:-//Kulvio Event Calendar//kulvio.de//
CALSCALE:GREGORIAN
METHOD:PUBLISH
BEGIN:VEVENT
SUMMARY:150 Jahre Freiwillige Feuerwehr Heusenstamm — Disco-Party
DTSTART:20260904T170000Z
DTEND:20260904T180000Z
DTSTAMP:20260421T042806Z
UID:kulvio-event-2590@kulvio.de
CATEGORIES:Party
CREATED:20260419T152322Z
DESCRIPTION:Zum Auftakt des dreitägigen Jubiläumswochenendes der Freiwil
 ligen Feuerwehr Heusenstamm steigt am Freitagabend eine Disco-Party im eig
 ens errichteten Festzelt. Unter dem Motto FFH feiert FFH wird der 150. Geb
 urtstag der 1876 nach einem Brand in der Kirchgasse gegründeten Wehr gefe
 iert. Das offizielle Jubiläumsbier Löschzug Hell\, gebraut von der Tradi
 tionsbrauerei Glaabsbräu aus Seligenstadt\, wird erstmals ausgeschenkt. D
 ie Disco-Party am Freitagabend bildet den Auftakt und richtet sich an ein 
 erwachsenes Publikum. Am Samstag und Sonntag folgen Heimatabend und Feuerw
 ehrtag mit weiteren Programmpunkten.
GEO:50.05964;8.812109
LAST-MODIFIED:20260419T153550Z
LOCATION:Rembrücker Straße 2-4\, 63150\, Heusenstamm
STATUS:CONFIRMED
URL:https://kulvio.de/event/2590
END:VEVENT
END:VCALENDAR
