BEGIN:VCALENDAR
VERSION:2.0
PRODID:-//Kulvio Event Calendar//kulvio.de//
CALSCALE:GREGORIAN
METHOD:PUBLISH
BEGIN:VEVENT
SUMMARY:150 Jahre Freiwillige Feuerwehr Heusenstamm — Heimatabend
DTSTART:20260905T160000Z
DTEND:20260905T170000Z
DTSTAMP:20260421T042309Z
UID:kulvio-event-2591@kulvio.de
CATEGORIES:Stadtfest,Konzert
CREATED:20260419T152322Z
DESCRIPTION:Am zweiten Tag des Jubiläumswochenendes der Freiwilligen Feue
 rwehr Heusenstamm findet der Heimatabend mit feierlichem Festbieranstich i
 m großen Festzelt statt. Die Proseccokehlchen singen die Hymne Die Feuerw
 ehr aus Heusenstamm und der Musikzug des TSV-Blasorchesters Heusenstamm tr
 itt auf. Feuerwehrkameraden und Gäste aus Heusenstamm und der Region komm
 en zusammen\, um den 150. Geburtstag der 1876 gegründeten Wehr zu feiern.
  Das Jubiläumsbier Löschzug Hell von Glaabsbräu Seligenstadt wird ausge
 schenkt. Der Heimatabend steht im Zeichen von Gemeinschaft und hessischer 
 Festtradition.
GEO:50.05964;8.812109
LAST-MODIFIED:20260419T153550Z
LOCATION:Rembrücker Straße 2-4\, 63150\, Heusenstamm
STATUS:CONFIRMED
URL:https://kulvio.de/event/2591
END:VEVENT
END:VCALENDAR
