BEGIN:VCALENDAR
VERSION:2.0
PRODID:-//Kulvio Event Calendar//kulvio.de//
CALSCALE:GREGORIAN
METHOD:PUBLISH
BEGIN:VEVENT
SUMMARY:150 Jahre Freiwillige Feuerwehr Heusenstamm — Feuerwehrtag
DTSTART:20260906T080000Z
DTEND:20260906T090000Z
DTSTAMP:20260421T042500Z
UID:kulvio-event-2592@kulvio.de
CATEGORIES:Stadtfest,Familienausflug
CREATED:20260419T152323Z
DESCRIPTION:Am Sonntag des Jubiläumswochenendes findet der 16. Heusenstam
 mer Feuerwehrtag statt. Der Tag beginnt mit einem Frühschoppen\, musikali
 sch begleitet von der Stadtkapelle Heusenstamm. Das abwechslungsreiche Pro
 gramm umfasst Schauübungen der Einsatzabteilung\, einen Unfallsimulator\,
  Fahrzeugausstellungen und Führungen durch die Wache der Freiwilligen Feu
 erwehr. Für Kinder gibt es ein eigenes Unterhaltungsprogramm mit Spielsta
 tionen und Mitmachaktionen\, dazu Gegrilltes und selbstgebackenen Kuchen. 
 Der Feuerwehrtag ist ein Tag der offenen Tür für die ganze Familie und b
 ietet Einblicke in die Arbeit der ehrenamtlichen Retter.
GEO:50.05964;8.812109
LAST-MODIFIED:20260419T153550Z
LOCATION:Rembrücker Straße 2-4\, 63150\, Heusenstamm
STATUS:CONFIRMED
URL:https://kulvio.de/event/2592
END:VEVENT
END:VCALENDAR
