BEGIN:VCALENDAR
VERSION:2.0
PRODID:-//Kulvio Event Calendar//kulvio.de//
CALSCALE:GREGORIAN
METHOD:PUBLISH
BEGIN:VEVENT
SUMMARY:Jahreskonzert der Stadtkapelle Heusenstamm
DTSTART:20260919T170000Z
DTEND:20260919T180000Z
DTSTAMP:20260421T042807Z
UID:kulvio-event-2593@kulvio.de
CATEGORIES:Konzert
CREATED:20260419T152323Z
DESCRIPTION:Die Stadtkapelle 1908 Heusenstamm gibt ihr Jahreskonzert mit e
 inem Programm aus moderner Blasmusik und Swing. Das Orchester probt das ga
 nze Jahr über jeden Dienstag für diesen Auftritt und präsentiert ein ab
 wechslungsreiches Repertoire aus Klassik\, Pop-Arrangements und Jazz-Stand
 ards. Das Jahreskonzert ist der musikalische Höhepunkt im Vereinskalender
  der traditionsreichen Kapelle\, die seit über hundert Jahren das kulture
 lle Leben in Heusenstamm mitprägt. Die Veranstaltung bietet einen festlic
 hen Rahmen für Musikliebhaber und ist zugleich ein Schaufenster des Verei
 ns für interessierte Musikerinnen und Musiker.
GEO:50.05964;8.812109
LAST-MODIFIED:20260419T153550Z
LOCATION:Saal für Vereine\, Rembrücker Straße 2-4\, 63150\, Heusenstamm
STATUS:CONFIRMED
URL:https://kulvio.de/event/2593
END:VEVENT
END:VCALENDAR
