BEGIN:VCALENDAR
VERSION:2.0
PRODID:-//Kulvio Event Calendar//kulvio.de//
CALSCALE:GREGORIAN
METHOD:PUBLISH
BEGIN:VEVENT
SUMMARY:60 Jahre Wort & Klang — Jubiläumsfest
DTSTART:20260919T090000Z
DTEND:20260919T100000Z
DTSTAMP:20260421T042943Z
UID:kulvio-event-2594@kulvio.de
CATEGORIES:Spielfest,Familienausflug
CREATED:20260419T152323Z
DESCRIPTION:Die Stadtbücherei und Musikschule Heusenstamm feiern ihr 60-j
 ähriges Bestehen mit einem großen Jubiläumsfest. Auf dem vielfältigen 
 Programm stehen Bastelaktionen\, Kindertheater und ein Bücherflohmarkt. B
 eide Einrichtungen wurden 1966 gegründet und prägen seit sechs Jahrzehnt
 en das kulturelle und musikalische Leben in Heusenstamm. Die Veranstaltung
  richtet sich an Familien mit Kindern und bietet ein abwechslungsreiches M
 itmach-Programm für alle Altersgruppen. Vorlesestunden und musikalische D
 arbietungen von Musikschülern ergänzen das Angebot. Das Jubiläumsfest i
 st eine Gelegenheit\, die Arbeit beider Einrichtungen kennenzulernen. Der 
 Eintritt ist frei.
GEO:50.062628;8.807535
LAST-MODIFIED:20260419T153550Z
LOCATION:Im Herrngarten 1\, 63150\, Heusenstamm
STATUS:CONFIRMED
URL:https://kulvio.de/event/2594
END:VEVENT
END:VCALENDAR
