BEGIN:VCALENDAR
VERSION:2.0
PRODID:-//Kulvio Event Calendar//kulvio.de//
CALSCALE:GREGORIAN
METHOD:PUBLISH
BEGIN:VEVENT
SUMMARY:En Bembel voll Spaß
DTSTART:20260926T160000Z
DTEND:20260926T170000Z
DTSTAMP:20260421T035129Z
UID:kulvio-event-2595@kulvio.de
CATEGORIES:Show,Comedy
CREATED:20260419T152323Z
DESCRIPTION:Das Mund Art Theater präsentiert En Bembel voll Spaß\, eine 
 Bühnenshow im Stil der legendären Fernsehsendung Zum Blauen Bock\, die v
 on 1957 bis 1987 ausgestrahlt wurde. Seit 2010 tourt das Format mit hessis
 cher Mundart\, Musik und Humor durch das Rhein-Main-Gebiet und ist fester 
 Bestandteil des Heusenstammer Kulturprogramms. Die Veranstaltung wird geme
 insam vom Magistrat der Stadt Heusenstamm und dem Mund Art Theater organis
 iert. Tickets kosten ab 22 Euro und sind über Frankfurt-Ticket\, die Buch
 handlung Das Buch in der Frankfurter Straße sowie das Rathaus Heusenstamm
  erhältlich.
GEO:50.047567;8.80099
LAST-MODIFIED:20260419T153550Z
LOCATION:Kultur- und Sportzentrum Martinsee\, Martinsestraße 2\, 63150\, 
 Heusenstamm
STATUS:CONFIRMED
URL:https://kulvio.de/event/2595
END:VEVENT
END:VCALENDAR
