BEGIN:VCALENDAR
VERSION:2.0
PRODID:-//Kulvio Event Calendar//kulvio.de//
CALSCALE:GREGORIAN
METHOD:PUBLISH
BEGIN:VEVENT
SUMMARY:Fest der Kinderrechte
DTSTART:20260927T090000Z
DTEND:20260927T100000Z
DTSTAMP:20260421T035202Z
UID:kulvio-event-2596@kulvio.de
CATEGORIES:Spielfest,Familienausflug
CREATED:20260419T152323Z
DESCRIPTION:Die Stadt Heusenstamm veranstaltet ein großes Fest der Kinder
 rechte mit Spiel- und Bastelangeboten für Kinder aller Altersgruppen. An 
 verschiedenen Stationen rund um den Bannturm werden die Rechte von Kindern
  spielerisch erlebbar gemacht und Familien zum Mitmachen eingeladen. Das K
 inderfest bietet Unterhaltung und Information rund um Themen wie Mitbestim
 mung\, Schutz und Bildung. 19 Einrichtungen und Vereine aus Heusenstamm be
 teiligen sich an der Planung und Durchführung. Die Veranstaltung findet j
 ährlich im September statt und ist ein fester Bestandteil des städtische
 n Veranstaltungskalenders. Der Eintritt ist frei.
GEO:50.062888;8.808599
LAST-MODIFIED:20260419T153550Z
LOCATION:Am Bannturm\, Im Herrngarten\, 63150\, Heusenstamm
STATUS:CONFIRMED
URL:https://kulvio.de/event/2596
END:VEVENT
END:VCALENDAR
