BEGIN:VCALENDAR
VERSION:2.0
PRODID:-//Kulvio Event Calendar//kulvio.de//
CALSCALE:GREGORIAN
METHOD:PUBLISH
BEGIN:VEVENT
SUMMARY:Kelterfest am Bannturm
DTSTART:20260927T080000Z
DTEND:20260927T150000Z
DTSTAMP:20260421T042311Z
UID:kulvio-event-2597@kulvio.de
CATEGORIES:Food-Festival,Tradition
CREATED:20260419T152323Z
DESCRIPTION:Der Gesangverein Konkordia Heusenstamm lädt zum traditionelle
 n Kelterfest am Bannturm ein. Im Mittelpunkt steht das Schaukeltern frisch
 er Äpfel\, deren Saft direkt vor Ort getrunken oder in 2\,5-Liter-Gebinde
 n mit nach Hause genommen werden kann. Dazu gibt es den selbstgekelterten 
 Apfelwein\, die hessische Spezialität Handkäs und Erbsensuppe mit Würst
 chen. Livemusik begleitet das herbstliche Treiben am Bannturm im Schlossar
 eal. Das Fest beginnt um 10 Uhr und dauert bis zum späten Nachmittag. Der
  Eintritt ist frei\, Speisen und Getränke sind kostenpflichtig.
GEO:50.062888;8.808599
LAST-MODIFIED:20260419T153550Z
LOCATION:Am Bannturm\, Im Herrngarten\, 63150\, Heusenstamm
STATUS:CONFIRMED
URL:https://kulvio.de/event/2597
END:VEVENT
END:VCALENDAR
