BEGIN:VCALENDAR
VERSION:2.0
PRODID:-//Kulvio Event Calendar//kulvio.de//
CALSCALE:GREGORIAN
METHOD:PUBLISH
BEGIN:VEVENT
SUMMARY:Vea Kaiser liest aus Fabula Rasa
DTSTART:20260423T173000Z
DTEND:20260423T183000Z
DTSTAMP:20260421T035134Z
UID:kulvio-event-2599@kulvio.de
CATEGORIES:Lesung
CREATED:20260419T154425Z
DESCRIPTION:Die österreichische Bestsellerautorin Vea Kaiser gastiert in 
 der Stadtbibliothek Neu-Isenburg und liest aus ihrem neuen Roman Fabula Ra
 sa. Kaiser zählt zu den erfolgreichsten deutschsprachigen Autorinnen ihre
 r Generation und begeistert mit sprachlicher Virtuosität und humorvollen 
 Geschichten. Tickets sind in der Stadtbibliothek und in der Buchhandlung b
 uch78 erhältlich. Der Abend beginnt um 19:30 Uhr.
GEO:50.049785;8.696724
LAST-MODIFIED:20260419T154622Z
LOCATION:Hugenottenhalle\, Frankfurter Straße 152\, 63263\, Neu-Isenburg
STATUS:CONFIRMED
URL:https://kulvio.de/event/2599
END:VEVENT
END:VCALENDAR
