BEGIN:VCALENDAR
VERSION:2.0
PRODID:-//Kulvio Event Calendar//kulvio.de//
CALSCALE:GREGORIAN
METHOD:PUBLISH
BEGIN:VEVENT
SUMMARY:Dritter Energietag der Stadtwerke Neu-Isenburg
DTSTART:20260425T090000Z
DTEND:20260425T140000Z
DTSTAMP:20260421T043144Z
UID:kulvio-event-2600@kulvio.de
CATEGORIES:Workshop,Vortrag
CREATED:20260419T154425Z
DESCRIPTION:Auf dem Werksgelände der Stadtwerke Neu-Isenburg findet der d
 ritte Energietag statt. Die Veranstaltung informiert über klimafreundlich
 es Heizen\, Photovoltaik und Elektromobilität mit Live-Demonstrationen vo
 n Heiztechnik und Solaranlagen. Fachexperten der Stadtwerke und ihrer Part
 ner bieten Vorträge zu energetischer Sanierung\, Förderung und Wärmepum
 pen sowie persönliche Beratungsgespräche. Für das leibliche Wohl ist ge
 sorgt\, der Eintritt ist frei.
GEO:50.047699;8.681582
LAST-MODIFIED:20260419T154622Z
LOCATION:Schleussnerstraße 62\, 63263\, Neu-Isenburg
STATUS:CONFIRMED
URL:https://kulvio.de/event/2600
END:VEVENT
END:VCALENDAR
