BEGIN:VCALENDAR
VERSION:2.0
PRODID:-//Kulvio Event Calendar//kulvio.de//
CALSCALE:GREGORIAN
METHOD:PUBLISH
BEGIN:VEVENT
SUMMARY:Run Up — Eröffnung der Laufsaison im Sportpark
DTSTART:20260425T080000Z
DTEND:20260425T090000Z
DTSTAMP:20260421T042808Z
UID:kulvio-event-2601@kulvio.de
CATEGORIES:Laufsport
CREATED:20260419T154425Z
DESCRIPTION:Der Lauftreff Run Up eröffnet die neue Saison im Sportpark Ne
 u-Isenburg. Die Veranstaltung richtet sich an Laufbegeisterte aller Leistu
 ngsstufen und markiert den Auftakt für die Laufsaison 2026. Der Sportpark
  in der Alicestraße bietet dafür ideale Bedingungen. Weitere Information
 en zur Anmeldung und zum Ablauf sind beim Sportamt der Stadt erhältlich.
GEO:50.054882;8.676167
LAST-MODIFIED:20260419T154622Z
LOCATION:Alicestraße\, 63263\, Neu-Isenburg
STATUS:CONFIRMED
URL:https://kulvio.de/event/2601
END:VEVENT
END:VCALENDAR
