BEGIN:VCALENDAR
VERSION:2.0
PRODID:-//Kulvio Event Calendar//kulvio.de//
CALSCALE:GREGORIAN
METHOD:PUBLISH
BEGIN:VEVENT
SUMMARY:Das Leise im Lauten — Grammophon-Lesung mit Jo van Nelsen
DTSTART:20260429T173000Z
DTEND:20260429T183000Z
DTSTAMP:20260421T041933Z
UID:kulvio-event-2602@kulvio.de
CATEGORIES:Lesung,Show
CREATED:20260419T154425Z
DESCRIPTION:Der Frankfurter Schauspieler\, Sänger und Rezitator Jo van Ne
 lsen präsentiert in der Stadtbibliothek Neu-Isenburg seine Grammophon-Les
 ung Das Leise im Lauten — Text trifft Ton. Er verbindet Literatur mit hi
 storischen Tondokumenten und liest unter anderem aus den Tagebucheinträge
 n von Marie Luise Kaschnitz aus den Jahren 1966 und 1967 über die Veränd
 erungen im Frankfurter Westend. Die Texte werden durch eindrucksvolle Klan
 gcollagen historischer Grammophon-Aufnahmen ergänzt.
GEO:50.049785;8.696724
LAST-MODIFIED:20260419T154622Z
LOCATION:Hugenottenhalle\, Frankfurter Straße 152\, 63263\, Neu-Isenburg
STATUS:CONFIRMED
URL:https://kulvio.de/event/2602
END:VEVENT
END:VCALENDAR
