BEGIN:VCALENDAR
VERSION:2.0
PRODID:-//Kulvio Event Calendar//kulvio.de//
CALSCALE:GREGORIAN
METHOD:PUBLISH
BEGIN:VEVENT
SUMMARY:Benaissa Lamroubal — Kanakalypse (Comedy-Show)
DTSTART:20260502T180000Z
DTEND:20260502T190000Z
DTSTAMP:20260421T084854Z
UID:kulvio-event-2603@kulvio.de
CATEGORIES:Comedy
CREATED:20260419T154425Z
DESCRIPTION:Nach drei Jahren Bühnenpause kehrt Comedian Benaissa Lamrouba
 l mit seinem vierten Solo-Programm Kanakalypse in die Hugenottenhalle Neu-
 Isenburg zurück. In seinem neuen Programm spricht er über das Älterwerd
 en\, die Herausforderungen als junger Vater und die absurden Seiten des Al
 ltagsrassismus. Die Show verbindet smarte Stand-up-Comedy mit klarer Haltu
 ng und frischen Pointen. Lamroubal ist auch als Teil des RebellComedy-Ense
 mbles bekannt.
GEO:50.049785;8.696724
LAST-MODIFIED:20260419T154622Z
LOCATION:Hugenottenhalle\, Frankfurter Straße 152\, 63263\, Neu-Isenburg
STATUS:CONFIRMED
URL:https://kulvio.de/event/2603
END:VEVENT
END:VCALENDAR
