BEGIN:VCALENDAR
VERSION:2.0
PRODID:-//Kulvio Event Calendar//kulvio.de//
CALSCALE:GREGORIAN
METHOD:PUBLISH
BEGIN:VEVENT
SUMMARY:Unboxing the Everyday: Die Druckerpresse — Gebrauchsgrafiken im 
 Alltag
DTSTART:20260508T163000Z
DTEND:20260508T173000Z
DTSTAMP:20260421T085056Z
UID:kulvio-event-2604@kulvio.de
CATEGORIES:Vortrag
CREATED:20260419T154425Z
DESCRIPTION:Der dritte Vortrag der Reihe Unboxing the Everyday im Stadtmus
 eum Haus zum Löwen widmet sich der Druckerpresse und Gebrauchsgrafiken im
  Alltag. Die Vortragsreihe beleuchtet Alltagsobjekte und ihre gesellschaft
 liche Bedeutung als Teil des Programms zum World Design Capital 2026. Der 
 Abend bietet Einblicke in die Geschichte der Drucktechnik und ihre Auswirk
 ungen auf das tägliche Leben. Es gilt das Prinzip Zahle\, was du willst.
GEO:50.056699;8.695454
LAST-MODIFIED:20260419T154622Z
LOCATION:Stadtmuseum Haus zum Löwen\, Löwengasse 24\, 63263\, Neu-Isenbu
 rg
STATUS:CONFIRMED
URL:https://kulvio.de/event/2604
END:VEVENT
END:VCALENDAR
