BEGIN:VCALENDAR
VERSION:2.0
PRODID:-//Kulvio Event Calendar//kulvio.de//
CALSCALE:GREGORIAN
METHOD:PUBLISH
BEGIN:VEVENT
SUMMARY:Floh- und Trödelmarkt Mai an der Hugenottenhalle
DTSTART:20260509T070000Z
DTEND:20260509T110000Z
DTSTAMP:20260421T043142Z
UID:kulvio-event-2605@kulvio.de
CATEGORIES:Flohmarkt
CREATED:20260419T154425Z
DESCRIPTION:Der monatliche Floh- und Trödelmarkt vor der Hugenottenhalle 
 bietet ein breites Angebot an Büchern\, Mode und Kinderspielzeug. Der Mar
 kt findet von April bis November jeweils am ersten Samstag des Monats stat
 t und zieht Schnäppchenjäger aus der ganzen Region an. Auf dem Wilhelmsp
 latz neben der Hugenottenhalle finden Besucher bei jedem Wetter eine groß
 e Auswahl. Der Eintritt ist frei.
GEO:50.054301;8.697751
LAST-MODIFIED:20260419T154622Z
LOCATION:Wilhelmsplatz\, 63263\, Neu-Isenburg
STATUS:CONFIRMED
URL:https://kulvio.de/event/2605
END:VEVENT
END:VCALENDAR
