BEGIN:VCALENDAR
VERSION:2.0
PRODID:-//Kulvio Event Calendar//kulvio.de//
CALSCALE:GREGORIAN
METHOD:PUBLISH
BEGIN:VEVENT
SUMMARY:Rock the Circus — Musik für die Augen
DTSTART:20260510T170000Z
DTEND:20260510T180000Z
DTSTAMP:20260421T043143Z
UID:kulvio-event-2606@kulvio.de
CATEGORIES:Show,Konzert
CREATED:20260419T154425Z
DESCRIPTION:Die Showproduktion Rock the Circus verbindet eine sechsköpfig
 e Live-Rockband mit internationaler Akrobatik in der Hugenottenhalle Neu-I
 senburg. Auf dem Programm stehen die größten Hits der Rockgeschichte von
  AC/DC\, Bon Jovi\, Guns N' Roses und Pink Floyd sowie weiterer legendäre
 r Bands aus fünf Jahrzehnten. Dazu zeigen internationale Akrobaten atembe
 raubende Stunts\, die synchron zur Musik eine völlig neue Kunstform ersch
 affen. Die Show von Reset Production aus Gera tourt seit 2018 erfolgreich 
 durch ganz Deutschland.
GEO:50.049785;8.696724
LAST-MODIFIED:20260419T154622Z
LOCATION:Hugenottenhalle\, Frankfurter Straße 152\, 63263\, Neu-Isenburg
STATUS:CONFIRMED
URL:https://kulvio.de/event/2606
END:VEVENT
END:VCALENDAR
