BEGIN:VCALENDAR
VERSION:2.0
PRODID:-//Kulvio Event Calendar//kulvio.de//
CALSCALE:GREGORIAN
METHOD:PUBLISH
BEGIN:VEVENT
SUMMARY:Internationaler Museumstag im Stadtmuseum Haus zum Löwen
DTSTART:20260517T090000Z
DTEND:20260517T150000Z
DTSTAMP:20260421T085056Z
UID:kulvio-event-2607@kulvio.de
CATEGORIES:Ausstellung,Geschichte
CREATED:20260419T154426Z
DESCRIPTION:Zum Internationalen Museumstag öffnet das Stadtmuseum Haus zu
 m Löwen in Neu-Isenburg seine Türen für ein abwechslungsreiches Program
 m. Von 11 bis 17 Uhr erwarten die Besucher Sonderausstellungen\, Workshops
  und Vorträge zur Stadtgeschichte. Um 15 Uhr findet im Rahmen der Reihe U
 nboxing the Everyday der vierte Vortrag zum Thema Über Kurz oder Lang —
  Das Telefon statt. Der Eintritt ist frei.
GEO:50.056699;8.695454
LAST-MODIFIED:20260419T154622Z
LOCATION:Stadtmuseum Haus zum Löwen\, Löwengasse 24\, 63263\, Neu-Isenbu
 rg
STATUS:CONFIRMED
URL:https://kulvio.de/event/2607
END:VEVENT
END:VCALENDAR
