BEGIN:VCALENDAR
VERSION:2.0
PRODID:-//Kulvio Event Calendar//kulvio.de//
CALSCALE:GREGORIAN
METHOD:PUBLISH
BEGIN:VEVENT
SUMMARY:Wein-Lese und Weinverkostung mit Stephan Schäfer
DTSTART:20260528T173000Z
DTEND:20260528T183000Z
DTSTAMP:20260421T043145Z
UID:kulvio-event-2608@kulvio.de
CATEGORIES:Lesung,Tasting
CREATED:20260419T154426Z
DESCRIPTION:Die Stadtbibliothek Neu-Isenburg lädt zu einem Abend der beso
 nderen Art ein\, bei dem Literatur und Wein aufeinandertreffen. Autor Step
 han Schäfer liest aus seinem Werk und begleitet die Lesung mit einer Wein
 verkostung ausgewählter Weine. Die Kombination aus Wort und Genuss bietet
  eine gesellige Atmosphäre in den Räumen der Stadtbibliothek. Der Abend 
 beginnt um 19:30 Uhr.
GEO:50.049785;8.696724
LAST-MODIFIED:20260419T154622Z
LOCATION:Hugenottenhalle\, Frankfurter Straße 152\, 63263\, Neu-Isenburg
STATUS:CONFIRMED
URL:https://kulvio.de/event/2608
END:VEVENT
END:VCALENDAR
