BEGIN:VCALENDAR
VERSION:2.0
PRODID:-//Kulvio Event Calendar//kulvio.de//
CALSCALE:GREGORIAN
METHOD:PUBLISH
BEGIN:VEVENT
SUMMARY:Flohmarktine — Mode\, Vintage und Accessoires
DTSTART:20260530T120000Z
DTEND:20260530T160000Z
DTSTAMP:20260421T043152Z
UID:kulvio-event-2609@kulvio.de
CATEGORIES:Flohmarkt
CREATED:20260419T154426Z
DESCRIPTION:Die Flohmarktine in der Hugenottenhalle Neu-Isenburg bietet ei
 n kuratiertes Angebot an Mode\, Vintage-Kleidung und Accessoires. Der Mark
 t richtet sich an alle\, die nach besonderen Kleidungsstücken und Schmuck
 stücken aus zweiter Hand suchen. Von 14 bis 18 Uhr können Besucher durch
  die Stände stöbern und individuelle Fundstücke entdecken. Die Veransta
 ltung findet in den Räumen der Hugenottenhalle statt.
GEO:50.049785;8.696724
LAST-MODIFIED:20260419T154622Z
LOCATION:Hugenottenhalle\, Frankfurter Straße 152\, 63263\, Neu-Isenburg
STATUS:CONFIRMED
URL:https://kulvio.de/event/2609
END:VEVENT
END:VCALENDAR
