BEGIN:VCALENDAR
VERSION:2.0
PRODID:-//Kulvio Event Calendar//kulvio.de//
CALSCALE:GREGORIAN
METHOD:PUBLISH
BEGIN:VEVENT
SUMMARY:RebellComedy — Rebell for Live in der Hugenottenhalle
DTSTART:20260531T143000Z
DTEND:20260531T153000Z
DTSTAMP:20260421T042459Z
UID:kulvio-event-2610@kulvio.de
CATEGORIES:Comedy
CREATED:20260419T154426Z
DESCRIPTION:Das erfolgreichste Stand-up-Comedy-Ensemble Europas RebellCome
 dy kommt mit der Tour Rebell for Live in die Hugenottenhalle Neu-Isenburg.
  Auf der Bühne stehen die Comedy-Stars Benaissa Lamroubal\, Khalid Bounou
 ar\, Hany Siam\, Salim Samatou\, Ususmango und Babak Ghassim. Die Show ver
 bindet zugespitzte Comedy mit lyrischer Tiefe und Musik eines Live-DJs\, e
 rgänzt durch Überraschungsgäste. Seit fast 20 Jahren tourt das Ensemble
  durch die großen Hallen in Deutschland\, Österreich und der Schweiz.
GEO:50.049785;8.696724
LAST-MODIFIED:20260419T154622Z
LOCATION:Hugenottenhalle\, Frankfurter Straße 152\, 63263\, Neu-Isenburg
STATUS:CONFIRMED
URL:https://kulvio.de/event/2610
END:VEVENT
END:VCALENDAR
