BEGIN:VCALENDAR
VERSION:2.0
PRODID:-//Kulvio Event Calendar//kulvio.de//
CALSCALE:GREGORIAN
METHOD:PUBLISH
BEGIN:VEVENT
SUMMARY:Bembeltreff: Serienmörder Wolpert 1980-1983
DTSTART:20260605T163000Z
DTEND:20260605T173000Z
DTSTAMP:20260421T043150Z
UID:kulvio-event-2611@kulvio.de
CATEGORIES:Vortrag,Geschichte
CREATED:20260419T154426Z
DESCRIPTION:Der Bembeltreff im Stadtmuseum Haus zum Löwen widmet sich ein
 em düsteren Kapitel der regionalen Kriminalgeschichte. Unter dem Titel Se
 rienmörder Wolpert 1980-1983 — Wer erinnert sich? lädt der Abend Zeitz
 eugen und Interessierte zum Austausch über die damaligen Ereignisse ein. 
 Die Veranstaltungsreihe pflegt lokale Geschichte und Erinnerungskultur in 
 geselliger Runde. Der Abend beginnt um 18:30 Uhr.
GEO:50.056699;8.695454
LAST-MODIFIED:20260419T154622Z
LOCATION:Stadtmuseum Haus zum Löwen\, Löwengasse 24\, 63263\, Neu-Isenbu
 rg
STATUS:CONFIRMED
URL:https://kulvio.de/event/2611
END:VEVENT
END:VCALENDAR
