BEGIN:VCALENDAR
VERSION:2.0
PRODID:-//Kulvio Event Calendar//kulvio.de//
CALSCALE:GREGORIAN
METHOD:PUBLISH
BEGIN:VEVENT
SUMMARY:41. Stadtteilfest Zeppelinheim (Freitag)
DTSTART:20260605T150000Z
DTEND:20260605T160000Z
DTSTAMP:20260421T043142Z
UID:kulvio-event-2612@kulvio.de
CATEGORIES:Stadtfest
CREATED:20260419T154426Z
DESCRIPTION:Das 41. Stadtteilfest in Zeppelinheim wird vor dem Bürgerhaus
  mit einem vielfältigen Programm eröffnet. An drei Tagen erwartet die Be
 sucher Musik\, Tanz\, Unterhaltung und kulinarische Stände. Der Freitagab
 end bildet den Auftakt des traditionellen Stadtteilfestes\, das alle Gener
 ationen zusammenbringt. Die Veranstaltung findet auf dem Gelände vor dem 
 Bürgerhaus Zeppelinheim statt.
GEO:50.034929;8.614255
LAST-MODIFIED:20260419T154622Z
LOCATION:Bürgerhaus Zeppelinheim\, Kapitän-Lehmann-Straße 2\, 63263\, N
 eu-Isenburg
STATUS:CONFIRMED
URL:https://kulvio.de/event/2612
END:VEVENT
END:VCALENDAR
