BEGIN:VCALENDAR
VERSION:2.0
PRODID:-//Kulvio Event Calendar//kulvio.de//
CALSCALE:GREGORIAN
METHOD:PUBLISH
BEGIN:VEVENT
SUMMARY:41. Stadtteilfest Zeppelinheim (Samstag)
DTSTART:20260606T100000Z
DTEND:20260606T110000Z
DTSTAMP:20260421T041937Z
UID:kulvio-event-2613@kulvio.de
CATEGORIES:Stadtfest,Spielfest
CREATED:20260419T154426Z
DESCRIPTION:Der Samstag beim 41. Stadtteilfest Zeppelinheim bietet ein umf
 angreiches Programm mit Kinderprogramm\, Ständen und Live-Musik. Die Besu
 cher können kulinarische Spezialitäten der lokalen Vereine genießen und
  gemeinsam feiern. Für Kinder gibt es Spielangebote und Mitmachaktionen r
 und um das Bürgerhaus. Die Veranstaltung lädt zum geselligen Beisammense
 in in Zeppelinheim ein.
GEO:50.034929;8.614255
LAST-MODIFIED:20260419T154622Z
LOCATION:Bürgerhaus Zeppelinheim\, Kapitän-Lehmann-Straße 2\, 63263\, N
 eu-Isenburg
STATUS:CONFIRMED
URL:https://kulvio.de/event/2613
END:VEVENT
END:VCALENDAR
