BEGIN:VCALENDAR
VERSION:2.0
PRODID:-//Kulvio Event Calendar//kulvio.de//
CALSCALE:GREGORIAN
METHOD:PUBLISH
BEGIN:VEVENT
SUMMARY:41. Stadtteilfest Zeppelinheim (Sonntag)
DTSTART:20260607T090000Z
DTEND:20260607T100000Z
DTSTAMP:20260421T043151Z
UID:kulvio-event-2614@kulvio.de
CATEGORIES:Stadtfest
CREATED:20260419T154426Z
DESCRIPTION:Der Sonntag bildet den Abschluss des 41. Stadtteilfestes in Ze
 ppelinheim. Der Tag beginnt mit einem ökumenischen Gottesdienst und geht 
 über in ein gemütliches Beisammensein mit Musik und kulinarischem Angebo
 t. Die Veranstaltung vor dem Bürgerhaus bietet einen entspannten Ausklang
  des dreitägigen Festes. Das Stadtteilfest ist eine feste Tradition in Ze
 ppelinheim.
GEO:50.034929;8.614255
LAST-MODIFIED:20260419T154622Z
LOCATION:Bürgerhaus Zeppelinheim\, Kapitän-Lehmann-Straße 2\, 63263\, N
 eu-Isenburg
STATUS:CONFIRMED
URL:https://kulvio.de/event/2614
END:VEVENT
END:VCALENDAR
