BEGIN:VCALENDAR
VERSION:2.0
PRODID:-//Kulvio Event Calendar//kulvio.de//
CALSCALE:GREGORIAN
METHOD:PUBLISH
BEGIN:VEVENT
SUMMARY:Floh- und Trödelmarkt Juni an der Hugenottenhalle
DTSTART:20260606T070000Z
DTEND:20260606T110000Z
DTSTAMP:20260421T043153Z
UID:kulvio-event-2615@kulvio.de
CATEGORIES:Flohmarkt
CREATED:20260419T154426Z
DESCRIPTION:Der monatliche Floh- und Trödelmarkt auf dem Wilhelmsplatz ne
 ben der Hugenottenhalle bietet Büchern\, Mode und Kinderspielzeug an. Von
  9 bis 13 Uhr können Besucher zwischen den Ständen stöbern und nach Sch
 näppchen suchen. Der Markt findet von April bis November jeweils am erste
 n Samstag des Monats statt. Der Eintritt für Besucher ist frei.
GEO:50.054301;8.697751
LAST-MODIFIED:20260419T154622Z
LOCATION:Wilhelmsplatz\, 63263\, Neu-Isenburg
STATUS:CONFIRMED
URL:https://kulvio.de/event/2615
END:VEVENT
END:VCALENDAR
