BEGIN:VCALENDAR
VERSION:2.0
PRODID:-//Kulvio Event Calendar//kulvio.de//
CALSCALE:GREGORIAN
METHOD:PUBLISH
BEGIN:VEVENT
SUMMARY:Historischer Tanzkurs im Stadtmuseum
DTSTART:20260611T163000Z
DTEND:20260611T173000Z
DTSTAMP:20260421T043142Z
UID:kulvio-event-2616@kulvio.de
CATEGORIES:Tanzkurs
CREATED:20260419T154426Z
DESCRIPTION:Im Stadtmuseum Haus zum Löwen lässt der historische Tanzkurs
  alte Kreis- und Reigentänze lebendig werden. Die Veranstaltung richtet s
 ich an alle Interessierten und erfordert keinerlei Vorkenntnisse im Tanzen
 . In entspannter Atmosphäre am Donnerstagabend können Teilnehmende gemei
 nsam historische Tanzformen aus verschiedenen Epochen ausprobieren. Der Ku
 rs findet in den Räumen des Stadtmuseums statt.
GEO:50.056699;8.695454
LAST-MODIFIED:20260419T154622Z
LOCATION:Stadtmuseum Haus zum Löwen\, Löwengasse 24\, 63263\, Neu-Isenbu
 rg
STATUS:CONFIRMED
URL:https://kulvio.de/event/2616
END:VEVENT
END:VCALENDAR
