BEGIN:VCALENDAR
VERSION:2.0
PRODID:-//Kulvio Event Calendar//kulvio.de//
CALSCALE:GREGORIAN
METHOD:PUBLISH
BEGIN:VEVENT
SUMMARY:Altstadtfest Neu-Isenburg (Freitag)
DTSTART:20260612T150000Z
DTEND:20260612T160000Z
DTSTAMP:20260421T043153Z
UID:kulvio-event-2617@kulvio.de
CATEGORIES:Stadtfest
CREATED:20260419T154426Z
DESCRIPTION:Das Altstadtfest im Alten Ort von Neu-Isenburg wird am Freitag
 abend eröffnet. Drei Tage lang erwartet die Besucher ein vielfältiges Pr
 ogramm aus Musik\, Kultur und Mitmachaktionen für alle Generationen. Die 
 Gassen des historischen Ortskerns verwandeln sich in eine Festmeile mit B
 ühnen\, Ständen und kulinarischen Angeboten. Das Altstadtfest zählt zu 
 den beliebtesten Festen in Neu-Isenburg.
GEO:50.055882;8.697085
LAST-MODIFIED:20260419T154622Z
LOCATION:Alter Ort\, 63263\, Neu-Isenburg
STATUS:CONFIRMED
URL:https://kulvio.de/event/2617
END:VEVENT
END:VCALENDAR
