BEGIN:VCALENDAR
VERSION:2.0
PRODID:-//Kulvio Event Calendar//kulvio.de//
CALSCALE:GREGORIAN
METHOD:PUBLISH
BEGIN:VEVENT
SUMMARY:Altstadtfest Neu-Isenburg (Samstag)
DTSTART:20260613T100000Z
DTEND:20260613T110000Z
DTSTAMP:20260421T043142Z
UID:kulvio-event-2618@kulvio.de
CATEGORIES:Stadtfest
CREATED:20260419T154426Z
DESCRIPTION:Der Samstag beim Altstadtfest ist der Haupttag mit dem umfangr
 eichsten Programm. Im historischen Alten Ort spielen Bands auf mehreren B
 ühnen und Vereine präsentieren kulinarische Spezialitäten aus der Regio
 n. Für Kinder und Familien gibt es Spielangebote und Mitmachaktionen. Das
  Altstadtfest bietet Unterhaltung und Begegnung für alle Altersgruppen.
GEO:50.055882;8.697085
LAST-MODIFIED:20260419T154622Z
LOCATION:Alter Ort\, 63263\, Neu-Isenburg
STATUS:CONFIRMED
URL:https://kulvio.de/event/2618
END:VEVENT
END:VCALENDAR
