BEGIN:VCALENDAR
VERSION:2.0
PRODID:-//Kulvio Event Calendar//kulvio.de//
CALSCALE:GREGORIAN
METHOD:PUBLISH
BEGIN:VEVENT
SUMMARY:Kammerkonzert zum Altstadtfest — PHG Neu-Isenburg
DTSTART:20260613T150000Z
DTEND:20260613T160000Z
DTSTAMP:20260421T043142Z
UID:kulvio-event-2619@kulvio.de
CATEGORIES:Konzert
CREATED:20260419T154426Z
DESCRIPTION:Das Kammerorchester der Philharmonischen Gesellschaft Neu-Isen
 burg gibt ein Konzert zum Altstadtfest in der Evangelisch-reformierten Kir
 che am Marktplatz. Auf dem Programm stehen Werke von Aufschnaiter\, Vivald
 i\, Telemann\, Nichelmann und Stamitz. Als Solisten treten Florian Mann un
 d Aleksander Zhibaj am Violoncello auf\, die Leitung hat Werner Fürst. De
 r Eintritt ist frei\, Spenden werden erbeten.
GEO:50.056076;8.696848
LAST-MODIFIED:20260419T154622Z
LOCATION:Evangelisch-reformierte Kirche\, Marktplatz 8\, 63263\, Neu-Isenb
 urg
STATUS:CONFIRMED
URL:https://kulvio.de/event/2619
END:VEVENT
END:VCALENDAR
