BEGIN:VCALENDAR
VERSION:2.0
PRODID:-//Kulvio Event Calendar//kulvio.de//
CALSCALE:GREGORIAN
METHOD:PUBLISH
BEGIN:VEVENT
SUMMARY:Altstadtfest Neu-Isenburg (Sonntag)
DTSTART:20260614T090000Z
DTEND:20260614T100000Z
DTSTAMP:20260421T043141Z
UID:kulvio-event-2620@kulvio.de
CATEGORIES:Stadtfest
CREATED:20260419T154426Z
DESCRIPTION:Der Sonntag bildet den Abschluss des Altstadtfestes im Alten O
 rt von Neu-Isenburg. Der letzte Festtag bietet ein entspanntes Programm mi
 t Musik und kulinarischen Angeboten der lokalen Vereine. Familien können 
 den Nachmittag bei Mitmachaktionen und Live-Musik im historischen Ortskern
  genießen. Das Altstadtfest endet traditionell am Sonntagabend.
GEO:50.055882;8.697085
LAST-MODIFIED:20260419T154622Z
LOCATION:Alter Ort\, 63263\, Neu-Isenburg
STATUS:CONFIRMED
URL:https://kulvio.de/event/2620
END:VEVENT
END:VCALENDAR
