BEGIN:VCALENDAR
VERSION:2.0
PRODID:-//Kulvio Event Calendar//kulvio.de//
CALSCALE:GREGORIAN
METHOD:PUBLISH
BEGIN:VEVENT
SUMMARY:PHG Sommerkonzert in Gravenbruch
DTSTART:20260614T160000Z
DTEND:20260614T170000Z
DTSTAMP:20260421T041938Z
UID:kulvio-event-2621@kulvio.de
CATEGORIES:Konzert
CREATED:20260419T154426Z
DESCRIPTION:Das Kammerorchester der Philharmonischen Gesellschaft Neu-Isen
 burg gibt sein jährliches Sommerkonzert in der Katholischen Gemeinde St. 
 Christoph in Gravenbruch. Auf dem Programm stehen Werke von Aufschnaiter\,
  Vivaldi\, Telemann\, Nichelmann und Stamitz mit den Cellisten Florian Man
 n und Aleksander Zhibaj als Solisten. Die musikalische Leitung hat Werner 
 Fürst. Der Eintritt ist frei\, Spenden werden erbeten.
GEO:50.059325;8.752841
LAST-MODIFIED:20260419T154622Z
LOCATION:Katholische Gemeinde St. Christoph\, Dreiherrnsteinplatz 2\, 6326
 3\, Neu-Isenburg
STATUS:CONFIRMED
URL:https://kulvio.de/event/2621
END:VEVENT
END:VCALENDAR
