BEGIN:VCALENDAR
VERSION:2.0
PRODID:-//Kulvio Event Calendar//kulvio.de//
CALSCALE:GREGORIAN
METHOD:PUBLISH
BEGIN:VEVENT
SUMMARY:Filmbörse in der Hugenottenhalle
DTSTART:20260621T090000Z
DTEND:20260621T130000Z
DTSTAMP:20260421T042944Z
UID:kulvio-event-2622@kulvio.de
CATEGORIES:Flohmarkt
CREATED:20260419T154426Z
DESCRIPTION:Die Filmbörse in der Hugenottenhalle Neu-Isenburg ist ein Sam
 mlermarkt rund um Film\, Kino und Popkultur. Von 11 bis 15 Uhr können Bes
 ucher nach DVDs\, Blu-rays\, Filmplakaten\, Memorabilia und anderen Sammle
 rstücken stöbern. Die Filmbörse ist ein fester Termin für Film- und Se
 riensammler aus der Rhein-Main-Region. Die Veranstaltung findet in den Rä
 umen der Hugenottenhalle statt.
GEO:50.049785;8.696724
LAST-MODIFIED:20260419T154622Z
LOCATION:Hugenottenhalle\, Frankfurter Straße 152\, 63263\, Neu-Isenburg
STATUS:CONFIRMED
URL:https://kulvio.de/event/2622
END:VEVENT
END:VCALENDAR
