BEGIN:VCALENDAR
VERSION:2.0
PRODID:-//Kulvio Event Calendar//kulvio.de//
CALSCALE:GREGORIAN
METHOD:PUBLISH
BEGIN:VEVENT
SUMMARY:Floh- und Trödelmarkt Juli an der Hugenottenhalle
DTSTART:20260704T070000Z
DTEND:20260704T110000Z
DTSTAMP:20260421T043142Z
UID:kulvio-event-2623@kulvio.de
CATEGORIES:Flohmarkt
CREATED:20260419T154426Z
DESCRIPTION:Der monatliche Floh- und Trödelmarkt auf dem Wilhelmsplatz ne
 ben der Hugenottenhalle lädt zum Stöbern und Feilschen ein. Von Büchern
  über Mode bis Kinderspielzeug bietet der Markt ein breites Angebot für 
 Schnäppchenjäger. Die Standplatzvergabe findet vorab im Kulturbüro stat
 t\, Besucher zahlen keinen Eintritt. Der Markt findet bei jedem Wetter sta
 tt.
GEO:50.054301;8.697751
LAST-MODIFIED:20260419T154622Z
LOCATION:Wilhelmsplatz\, 63263\, Neu-Isenburg
STATUS:CONFIRMED
URL:https://kulvio.de/event/2623
END:VEVENT
END:VCALENDAR
