BEGIN:VCALENDAR
VERSION:2.0
PRODID:-//Kulvio Event Calendar//kulvio.de//
CALSCALE:GREGORIAN
METHOD:PUBLISH
BEGIN:VEVENT
SUMMARY:31. Hugenotten Rad Touristik RTF
DTSTART:20260705T070000Z
DTEND:20260705T080000Z
DTSTAMP:20260421T043152Z
UID:kulvio-event-2624@kulvio.de
CATEGORIES:Radtour,Wettkampf
CREATED:20260419T154426Z
DESCRIPTION:Die 31. Hugenotten Rad Touristik ist eine Radfahrveranstaltung
  im Sportpark Neu-Isenburg. Die RTF bietet Strecken verschiedener Längen 
 und richtet sich an Radfahrer aller Leistungsklassen aus der Region. Start
  und Ziel befinden sich im Sportpark an der Alicestraße. Die Veranstaltun
 g ist Teil des jährlichen Sportprogramms der Stadt Neu-Isenburg.
GEO:50.054882;8.676167
LAST-MODIFIED:20260419T154622Z
LOCATION:Alicestraße\, 63263\, Neu-Isenburg
STATUS:CONFIRMED
URL:https://kulvio.de/event/2624
END:VEVENT
END:VCALENDAR
