BEGIN:VCALENDAR
VERSION:2.0
PRODID:-//Kulvio Event Calendar//kulvio.de//
CALSCALE:GREGORIAN
METHOD:PUBLISH
BEGIN:VEVENT
SUMMARY:Open Doors Musikspektakel (Freitag)
DTSTART:20260710T150000Z
DTEND:20260710T160000Z
DTSTAMP:20260421T043153Z
UID:kulvio-event-2625@kulvio.de
CATEGORIES:Festival,Konzert
CREATED:20260419T154426Z
DESCRIPTION:Das Open Doors Festival in Neu-Isenburg startet am Freitag mit
  Live-Musik an verschiedenen Orten in der Innenstadt. An drei Tagen spiele
 n über 50 Bands auf 16 Bühnen Musik von Rock und Pop bis Jazz und Salsa.
  Das Festival ist einzigartig in der Rhein-Main-Region und zieht jährlich
  bis zu 40.000 Gäste an. Der Eintritt ist an allen drei Tagen frei.
GEO:50.05666;8.695181
LAST-MODIFIED:20260419T154622Z
LOCATION:Frankfurter Straße\, 63263\, Neu-Isenburg
STATUS:CONFIRMED
URL:https://kulvio.de/event/2625
END:VEVENT
END:VCALENDAR
