BEGIN:VCALENDAR
VERSION:2.0
PRODID:-//Kulvio Event Calendar//kulvio.de//
CALSCALE:GREGORIAN
METHOD:PUBLISH
BEGIN:VEVENT
SUMMARY:Open Doors Musikspektakel (Samstag)
DTSTART:20260711T120000Z
DTEND:20260711T130000Z
DTSTAMP:20260421T043152Z
UID:kulvio-event-2626@kulvio.de
CATEGORIES:Festival,Konzert
CREATED:20260419T154426Z
DESCRIPTION:Am Samstag erreicht das Open Doors Festival seinen Höhepunkt 
 mit dem umfangreichsten Programm des Wochenendes. Über 50 Bands spielen a
 uf 16 Bühnen verteilt in der Neu-Isenburger Innenstadt Musik aller Genres
  von Rock über Pop bis Jazz und Salsa. Das kostenlose Festival verbindet 
 Livemusik\, Kultur und Begegnung und ist die größte Livemusik-Party im K
 reis Offenbach. Besucher können zwischen den verschiedenen Bühnen und Lo
 cations wechseln.
GEO:50.05666;8.695181
LAST-MODIFIED:20260419T154622Z
LOCATION:Frankfurter Straße\, 63263\, Neu-Isenburg
STATUS:CONFIRMED
URL:https://kulvio.de/event/2626
END:VEVENT
END:VCALENDAR
