BEGIN:VCALENDAR
VERSION:2.0
PRODID:-//Kulvio Event Calendar//kulvio.de//
CALSCALE:GREGORIAN
METHOD:PUBLISH
BEGIN:VEVENT
SUMMARY:Open Doors Musikspektakel (Sonntag)
DTSTART:20260712T120000Z
DTEND:20260712T130000Z
DTSTAMP:20260421T043150Z
UID:kulvio-event-2627@kulvio.de
CATEGORIES:Festival,Konzert
CREATED:20260419T154426Z
DESCRIPTION:Am Sonntag klingt das Open Doors Festival in Neu-Isenburg aus.
  Die Bands spielen auf verschiedenen Bühnen in der Innenstadt und bieten 
 einen entspannten musikalischen Abschluss des dreitägigen Festivals. Von 
 Rock und Pop bis Jazz und Salsa ist für jeden Musikgeschmack etwas dabei.
  Der Eintritt ist auch am Abschlusstag frei.
GEO:50.05666;8.695181
LAST-MODIFIED:20260419T154622Z
LOCATION:Frankfurter Straße\, 63263\, Neu-Isenburg
STATUS:CONFIRMED
URL:https://kulvio.de/event/2627
END:VEVENT
END:VCALENDAR
