BEGIN:VCALENDAR
VERSION:2.0
PRODID:-//Kulvio Event Calendar//kulvio.de//
CALSCALE:GREGORIAN
METHOD:PUBLISH
BEGIN:VEVENT
SUMMARY:Rhein Main Swingtett: Swinging Springtime
DTSTART:20260424T180000Z
DTEND:20260424T190000Z
DTSTAMP:20260421T043146Z
UID:kulvio-event-2629@kulvio.de
CATEGORIES:Konzert
CREATED:20260419T155424Z
DESCRIPTION:Das Rhein Main Swingtett spielt unter dem Motto Swinging Sprin
 gtime im Flörsheimer Keller. Die Formation bringt schwungvollen Swing und
  Jazz in den historischen Gewölbekeller und lädt zu einem musikalischen 
 Frühlingsabend ein. Das Konzert beginnt um 20 Uhr.
GEO:50.011419;8.426671
LAST-MODIFIED:20260419T160134Z
LOCATION:Flörsheimer Keller\, Hauptstraße 43\, 65439\, Flörsheim am Mai
 n
STATUS:CONFIRMED
URL:https://kulvio.de/event/2629
END:VEVENT
END:VCALENDAR
