BEGIN:VCALENDAR
VERSION:2.0
PRODID:-//Kulvio Event Calendar//kulvio.de//
CALSCALE:GREGORIAN
METHOD:PUBLISH
BEGIN:VEVENT
SUMMARY:Jazz Connects Festival 2026: The JLF Project
DTSTART:20260428T180000Z
DTEND:20260428T190000Z
DTSTAMP:20260421T043145Z
UID:kulvio-event-2630@kulvio.de
CATEGORIES:Konzert
CREATED:20260419T155424Z
DESCRIPTION:Im Rahmen des Jazz Connects Festivals 2026 gastiert The JLF Pr
 oject im Flörsheimer Keller. Der Abend bietet Live-Jazz in der besonderen
  Atmosphäre des historischen Gewölbekellers in der Flörsheimer Altstadt
 . Das Konzert beginnt um 20 Uhr.
GEO:50.011419;8.426671
LAST-MODIFIED:20260419T160134Z
LOCATION:Flörsheimer Keller\, Hauptstraße 43\, 65439\, Flörsheim am Mai
 n
STATUS:CONFIRMED
URL:https://kulvio.de/event/2630
END:VEVENT
END:VCALENDAR
